BEGIN:VCALENDAR
VERSION:2.0
PRODID:-//MJC Théâtre Prémol - ECPv6.9.0//NONSGML v1.0//EN
CALSCALE:GREGORIAN
METHOD:PUBLISH
X-ORIGINAL-URL:https://mjctheatrepremol.fr
X-WR-CALDESC:Évènements pour MJC Théâtre Prémol
REFRESH-INTERVAL;VALUE=DURATION:PT1H
X-Robots-Tag:noindex
X-PUBLISHED-TTL:PT1H
BEGIN:VTIMEZONE
TZID:Europe/Paris
BEGIN:DAYLIGHT
TZOFFSETFROM:+0100
TZOFFSETTO:+0200
TZNAME:CEST
DTSTART:20240331T010000
END:DAYLIGHT
BEGIN:STANDARD
TZOFFSETFROM:+0200
TZOFFSETTO:+0100
TZNAME:CET
DTSTART:20241027T010000
END:STANDARD
END:VTIMEZONE
BEGIN:VEVENT
DTSTART;VALUE=DATE:20241031
DTEND;VALUE=DATE:20241104
DTSTAMP:20260424T080735
CREATED:20240503T100024Z
LAST-MODIFIED:20241126T115812Z
UID:6841-1730332800-1730678399@mjctheatrepremol.fr
SUMMARY:Moment Privilégié 1 : Rencontre acrobatique
DESCRIPTION:Retourner à la saison culturelle \n					\n					\n				\n								\n				\n					\n		\n				\n			\n						\n				\n							\n			\n				PrécédentPrécédentAvant la chute			\n							\n					\n				\n						\n				SuivantPuzzleSuivant			\n		\n						\n				\n					\n		\n					\n		\n				\n						\n					\n			\n						\n				\n							\n			\n		\n						\n				\n				\n						\n					\n			\n						\n				\n							\n							\n											\n													\n										Par la compagnie Art à Conter\, avec Zoé Gaillard Bizot et Théo Rathuille\n									\n								\n											\n													\n										Tarif adhérents : 8 € / Non-adhérents : 19 €\n									\n						\n						\n				\n				\n				\n							\n			\n						\n		\n						\n				\n				\n				\n					Dates du stage				\n				\n				\n				\n									Jeudi 31 octobre de 10h30 à 12h30Samedi 2 novembre de 10h30 à 12h30Dimanche 3 novembre de 09h00 à 13h00								\n				\n				\n				\n							\n			\n						\n		\n						\n				\n				\n				\n					Restitution				\n				\n				\n				\n									Le dimanche 3 novembre à 15h30 en première partie du spectacle Avant la chute 								\n				\n					\n		\n				\n			\n						\n				\n					Moment Privilégié 1 : Rencontre acrobatique				\n				\n				\n				\n									Ce qui vous attend : apprentissage des bases en acrobaties dansées avec Théo pour le sol\, de la pratique de cerceau aérien pour la voltige avec Zoé\, ainsi que des portés acrobatiques pour mélanger les deux univers des artistes et vous permettre ainsi la pratique d’une spécialité collective en échange les uns avec les autres. 								\n				\n				\n				\n					Réservation				\n				\n				\n				\n					Vente de billets en ligne
URL:https://mjctheatrepremol.fr/event/moment-privilegie-1-rencontre-acrobatique/
CATEGORIES:Moments Privilégiés,Passés
ATTACH;FMTTYPE=image/jpeg:https://mjctheatrepremol.fr/wp-content/uploads/2024/06/14-moment-privilegie-1.jpg
END:VEVENT
END:VCALENDAR