BEGIN:VCALENDAR
VERSION:2.0
PRODID:-//MJC Théâtre Prémol - ECPv6.9.0//NONSGML v1.0//EN
CALSCALE:GREGORIAN
METHOD:PUBLISH
X-ORIGINAL-URL:https://mjctheatrepremol.fr
X-WR-CALDESC:Évènements pour MJC Théâtre Prémol
REFRESH-INTERVAL;VALUE=DURATION:PT1H
X-Robots-Tag:noindex
X-PUBLISHED-TTL:PT1H
BEGIN:VTIMEZONE
TZID:Europe/Paris
BEGIN:DAYLIGHT
TZOFFSETFROM:+0100
TZOFFSETTO:+0200
TZNAME:CEST
DTSTART:20260329T010000
END:DAYLIGHT
BEGIN:STANDARD
TZOFFSETFROM:+0200
TZOFFSETTO:+0100
TZNAME:CET
DTSTART:20261025T010000
END:STANDARD
END:VTIMEZONE
BEGIN:VEVENT
DTSTART;TZID=Europe/Paris:20260104T150000
DTEND;TZID=Europe/Paris:20260104T170000
DTSTAMP:20260421T115341
CREATED:20251222T155612Z
LAST-MODIFIED:20251222T161249Z
UID:7531-1767538800-1767546000@mjctheatrepremol.fr
SUMMARY:Galette des Rois
DESCRIPTION:  \nChers Amis\, \nUn an après notre sortie des murs\, l’association MJC Théâtre Prémol tient à démarrer l’année 2026 avec celles et ceux qui lui ont accordée soutien et bienveillance.\nRetrouvons-nous le dimanche 4 janvier 2026 à 15h00 pour déguster la galette des rois à l’Espace Partagé Vigny Musset (13 rue Guy Môquet 38100 Grenoble).\nSolidarité et humanité sont les maîtres mots que nous souhaitons à tous.\nVenez nombreux\, seul(e) ou accompagné(e)\, avec votre plus beau sourire et votre bonne humeur\, nous nous chargeons du reste.\nAlors\, faites passer l’info et tous à vos agendas !\nNous avons hâte de vous retrouver ! \nBien à vous\, \nLe Conseil d’Administration
URL:https://mjctheatrepremol.fr/event/galette-des-rois/
LOCATION:Espace partagé Vigny-Musset\, 13 rue Môquet\, Grenoble\, 38100\, France
CATEGORIES:Moments Privilégiés
END:VEVENT
END:VCALENDAR